BEGIN:VCALENDAR
VERSION:2.0
PRODID:-//Crisis and Counseling Centers - ECPv6.15.14//NONSGML v1.0//EN
CALSCALE:GREGORIAN
METHOD:PUBLISH
X-WR-CALNAME:Crisis and Counseling Centers
X-ORIGINAL-URL:https://crisisandcounseling.org
X-WR-CALDESC:Events for Crisis and Counseling Centers
REFRESH-INTERVAL;VALUE=DURATION:PT1H
X-Robots-Tag:noindex
X-PUBLISHED-TTL:PT1H
BEGIN:VTIMEZONE
TZID:America/New_York
BEGIN:DAYLIGHT
TZOFFSETFROM:-0500
TZOFFSETTO:-0400
TZNAME:EDT
DTSTART:20220313T070000
END:DAYLIGHT
BEGIN:STANDARD
TZOFFSETFROM:-0400
TZOFFSETTO:-0500
TZNAME:EST
DTSTART:20221106T060000
END:STANDARD
BEGIN:DAYLIGHT
TZOFFSETFROM:-0500
TZOFFSETTO:-0400
TZNAME:EDT
DTSTART:20230312T070000
END:DAYLIGHT
BEGIN:STANDARD
TZOFFSETFROM:-0400
TZOFFSETTO:-0500
TZNAME:EST
DTSTART:20231105T060000
END:STANDARD
BEGIN:DAYLIGHT
TZOFFSETFROM:-0500
TZOFFSETTO:-0400
TZNAME:EDT
DTSTART:20240310T070000
END:DAYLIGHT
BEGIN:STANDARD
TZOFFSETFROM:-0400
TZOFFSETTO:-0500
TZNAME:EST
DTSTART:20241103T060000
END:STANDARD
END:VTIMEZONE
BEGIN:VEVENT
DTSTART;TZID=America/New_York:20230919T100000
DTEND;TZID=America/New_York:20230919T113000
DTSTAMP:20260419T194629
CREATED:20230913T193514Z
LAST-MODIFIED:20230913T200548Z
UID:9709-1695117600-1695123000@crisisandcounseling.org
SUMMARY:Nurturing Parenting for Families in Recovery
DESCRIPTION:If you are a parent or caregiver working on your recovery and want to learn more about the effects of substance use on your family\, parenting style\, and relationship with your child\, join us for this FREE program. \nThrough a series of guided discussions\, you will enhance your self-awareness and increase your ability to relate to your child/children in a safe and supportive environment surrounded by parents and caregivers who share similar life experiences. \nTogether\, we will: \n\nExplore ideas and self-awareness\nBuild skills for nurturing self and others.\n\nWhat to expect: \nIn this course\, parents and caregivers will learn about stress management\, guiding behaviors\, and setting boundaries. Participants will learn about building trust with their children through exercises centered on self-care\, finding hope\, and critical parenting skills. \nClass instructors will also offer community resources to aid participants in their recovery and parenting journeys. \nWho are classes for? \nThis class is ideal for expectant parents\, parents\, and caregivers who are impacted by substance use. The class is also open to family members who are raising children that have been affected by substance use. Participants are encouraged to come to the group for as long as they wish. Many members have attended the group for years to receive ongoing parenting support. \nREGISTER TODAY if you or a loved one is interested in participating in this free program! \n\nFor more information or to register\, please reach out to Kristen at (207) 859-2520 or kristenp@kvcap.org.\nYou are also able to register online by visiting https://kvcap-org.zoom.us/meeting/register/tZEtcO2hpjkpHdzWro7A9sHkMq274-zwkIPK#/registration.
URL:https://crisisandcounseling.org/event/nurturing-parenting-for-families-in-recovery-24/
LOCATION:Virtual
CATEGORIES:C&C Event
ATTACH;FMTTYPE=image/jpeg:https://crisisandcounseling.org/wp-content/uploads/sites/5/2023/09/Facebook-Event-Cover-Image_v1.jpg
ORGANIZER;CN="Kristen Plummer%2C KVCAP":MAILTO:kristenp@kvcap.org
END:VEVENT
END:VCALENDAR