BEGIN:VCALENDAR
VERSION:2.0
PRODID:-//Crisis and Counseling Centers - ECPv6.15.14//NONSGML v1.0//EN
CALSCALE:GREGORIAN
METHOD:PUBLISH
X-ORIGINAL-URL:https://crisisandcounseling.org
X-WR-CALDESC:Events for Crisis and Counseling Centers
REFRESH-INTERVAL;VALUE=DURATION:PT1H
X-Robots-Tag:noindex
X-PUBLISHED-TTL:PT1H
BEGIN:VTIMEZONE
TZID:America/New_York
BEGIN:DAYLIGHT
TZOFFSETFROM:-0500
TZOFFSETTO:-0400
TZNAME:EDT
DTSTART:20210314T070000
END:DAYLIGHT
BEGIN:STANDARD
TZOFFSETFROM:-0400
TZOFFSETTO:-0500
TZNAME:EST
DTSTART:20211107T060000
END:STANDARD
BEGIN:DAYLIGHT
TZOFFSETFROM:-0500
TZOFFSETTO:-0400
TZNAME:EDT
DTSTART:20220313T070000
END:DAYLIGHT
BEGIN:STANDARD
TZOFFSETFROM:-0400
TZOFFSETTO:-0500
TZNAME:EST
DTSTART:20221106T060000
END:STANDARD
BEGIN:DAYLIGHT
TZOFFSETFROM:-0500
TZOFFSETTO:-0400
TZNAME:EDT
DTSTART:20230312T070000
END:DAYLIGHT
BEGIN:STANDARD
TZOFFSETFROM:-0400
TZOFFSETTO:-0500
TZNAME:EST
DTSTART:20231105T060000
END:STANDARD
END:VTIMEZONE
BEGIN:VEVENT
DTSTART;TZID=America/New_York:20221115T100000
DTEND;TZID=America/New_York:20221115T113000
DTSTAMP:20260421T062018
CREATED:20220420T215924Z
LAST-MODIFIED:20220824T235807Z
UID:8837-1668506400-1668511800@crisisandcounseling.org
SUMMARY:Nurturing Parenting for Families in Recovery (Somerset)
DESCRIPTION:If you are a parent or caregiver working on your recovery and want to learn more about the effects of substance use on your family\, parenting style\, and your relationship with your child\, join us for this FREE 17-week program. \nYou will explore hands-on activities and guided discussions to enhance your self-awareness and increase your ability to relate to your child/children in a safe and supportive environment surrounded by parents and caregivers who share similar life experiences. \nTogether we will: \n\nExplore ideas and build skills.\nStrengthen your connection with your child.\nIncrease your and your child’s healing.\n\nThe Somerset county group is for those living in the county and surrounding areas. There are seventeen sessions\, all about 90 mins\, which will take place on Zoom on Tuesdays from 10:00 am to 11:30 am. \nIf you or a loved one is interested in participating in this free program\, please contact Kristen Plummer at (207) 859-2520 for more information or to register. \nYou may also register online here >> https://us02web.zoom.us/meeting/register/tZ0vduCuqzkoG9OubWvZqu7hcm_q5ovDxG1X
URL:https://crisisandcounseling.org/event/nurturing-parenting-for-families-in-recovery-somerset-30/
LOCATION:Virtual
CATEGORIES:C&C Event
ATTACH;FMTTYPE=image/png:https://crisisandcounseling.org/wp-content/uploads/sites/5/2022/04/Somerset_Week46.png
ORGANIZER;CN="Kristen Plummer%2C KVCAP":MAILTO:kristenp@kvcap.org
END:VEVENT
BEGIN:VEVENT
DTSTART;TZID=America/New_York:20221115T153000
DTEND;TZID=America/New_York:20221115T170000
DTSTAMP:20260421T062018
CREATED:20220420T183107Z
LAST-MODIFIED:20220824T213805Z
UID:8717-1668526200-1668531600@crisisandcounseling.org
SUMMARY:Nurturing Parenting for Families in Recovery (Kennebec)
DESCRIPTION:If you are a parent or caregiver working on your recovery and want to learn more about the effects of substance use on your family\, parenting style\, and your relationship with your child\, join us for this FREE 17-week program. \nYou will explore hands-on activities and guided discussions to enhance your self-awareness and increase your ability to relate to your child/children in a safe and supportive environment surrounded by parents and caregivers who share similar life experiences. \nTogether we will: \n\nExplore ideas and build skills.\nStrengthen your connection with your child.\nIncrease your and your child’s healing.\n\nThe Kennebec county group is for those living in the county and surrounding areas. There are seventeen sessions\, all about 90 mins\, which will take place on zoom on Tuesdays from 3:30 pm to 5:00 pm. \nIf you or a loved one is interested in participating in this free program\, please contact Jenny Freudlich at (207) 859-1580 for more information or to register. \nYou may also register online here >> https://us02web.zoom.us/meeting/register/tZ0ocO6qpjkqGNGfEpVIyGv61NmfQ7rGx6LC
URL:https://crisisandcounseling.org/event/nurturing-parenting-for-families-in-recovery-kennebec-30/
LOCATION:Virtual
CATEGORIES:C&C Event
ATTACH;FMTTYPE=image/png:https://crisisandcounseling.org/wp-content/uploads/sites/5/2022/04/Kennebec_Week46.png
ORGANIZER;CN="Jenny Freudlich%2C KVCAP":MAILTO:jfreundlich@kvcap.org
END:VEVENT
END:VCALENDAR